BEGIN:VCALENDAR
VERSION:2.0
PRODID:icalendar-ruby
CALSCALE:GREGORIAN
METHOD:PUBLISH
BEGIN:VEVENT
DTSTAMP:20260422T022419Z
UID:8-144067@onechurchavon.com
DTSTART:20260906T213000Z
DTEND:20260906T223000Z
CLASS:PUBLIC
CREATED:20260421T204607
DESCRIPTION:
LAST-MODIFIED:20260421T204607
LOCATION:Avon Volunteer Fire Department
SUMMARY:Weekly Worship Gathering
URL;VALUE=URI:https://www.onechurchavon.com/events/weekly-worship-gathering
 /2026-09-06
END:VEVENT
END:VCALENDAR
