BEGIN:VCALENDAR
VERSION:2.0
PRODID:icalendar-ruby
CALSCALE:GREGORIAN
METHOD:PUBLISH
BEGIN:VEVENT
DTSTAMP:20260422T121221Z
UID:8-144156@onechurchavon.com
DTSTART:20261018T213000Z
DTEND:20261018T223000Z
CLASS:PUBLIC
CREATED:20260422T074938
DESCRIPTION:
LAST-MODIFIED:20260422T074938
LOCATION:Avon Volunteer Fire Department
SUMMARY:Weekly Worship Gathering
URL;VALUE=URI:https://www.onechurchavon.com/events/weekly-worship-gathering
 /2026-10-18
END:VEVENT
END:VCALENDAR
