BEGIN:VCALENDAR
VERSION:2.0
PRODID:icalendar-ruby
CALSCALE:GREGORIAN
METHOD:PUBLISH
BEGIN:VEVENT
DTSTAMP:20260422T152104Z
UID:8-144241@onechurchavon.com
DTSTART:20261101T223000Z
DTEND:20261101T233000Z
CLASS:PUBLIC
CREATED:20260422T104431
DESCRIPTION:
LAST-MODIFIED:20260422T104431
LOCATION:Avon Volunteer Fire Department
SUMMARY:Weekly Worship Gathering
URL;VALUE=URI:https://www.onechurchavon.com/events/weekly-worship-gathering
 /2026-11-01
END:VEVENT
END:VCALENDAR
